View In:
ArcGIS JavaScript
ArcGIS Online Map Viewer
ArcGIS Earth
ArcGIS Pro
Service Description:
Map Name: Basemap For Community Maps
Legend
All Layers and Tables
Layers:
Description:
Service Item Id: ecb75f0b6c324806a0a0d39ac1771cb2
Copyright Text:
Spatial Reference:
2913
(2913)
Single Fused Map Cache: true
Tile Info:
- Height: 256.0
- Width: 256.0
- DPI: 96.0
-
Levels of Detail: 24
-
Level ID: 0
[ Start Tile, End Tile ]
- Resolution: 933869.815925016883
- Scale: 1075818027.94561934
-
Level ID: 1
[ Start Tile, End Tile ]
- Resolution: 466934.907962508441
- Scale: 537909013.972809672
-
Level ID: 2
[ Start Tile, End Tile ]
- Resolution: 233467.453981254221
- Scale: 268954506.986404836
-
Level ID: 3
[ Start Tile, End Tile ]
- Resolution: 116733.72699062711
- Scale: 134477253.493202418
-
Level ID: 4
[ Start Tile, End Tile ]
- Resolution: 58366.8634953135552
- Scale: 67238626.746601209
-
Level ID: 5
[ Start Tile, End Tile ]
- Resolution: 29183.4317476567776
- Scale: 33619313.3733006045
-
Level ID: 6
[ Start Tile, End Tile ]
- Resolution: 14591.7158738283888
- Scale: 16809656.6866503023
-
Level ID: 7
[ Start Tile, End Tile ]
- Resolution: 7295.8579369141944
- Scale: 8404828.34332515113
-
Level ID: 8
[ Start Tile, End Tile ]
- Resolution: 3647.9289684570972
- Scale: 4202414.17166257557
-
Level ID: 9
[ Start Tile, End Tile ]
- Resolution: 1823.9644842285486
- Scale: 2101207.08583128778
-
Level ID: 10
[ Start Tile, End Tile ]
- Resolution: 911.9822421142743
- Scale: 1050603.54291564389
-
Level ID: 11
[ Start Tile, End Tile ]
- Resolution: 455.99112105713715
- Scale: 525301.771457821946
-
Level ID: 12
[ Start Tile, End Tile ]
- Resolution: 227.995560528568575
- Scale: 262650.885728910973
-
Level ID: 13
[ Start Tile, End Tile ]
- Resolution: 113.997780264284287
- Scale: 131325.442864455486
-
Level ID: 14
[ Start Tile, End Tile ]
- Resolution: 56.998890132142144
- Scale: 65662.7214322277432
-
Level ID: 15
[ Start Tile, End Tile ]
- Resolution: 28.499445066071072
- Scale: 32831.3607161138716
-
Level ID: 16
[ Start Tile, End Tile ]
- Resolution: 14.249722533035536
- Scale: 16415.6803580569358
-
Level ID: 17
[ Start Tile, End Tile ]
- Resolution: 7.124861266517768
- Scale: 8207.8401790284679
-
Level ID: 18
[ Start Tile, End Tile ]
- Resolution: 3.562430633258884
- Scale: 4103.920089514234
-
Level ID: 19
[ Start Tile, End Tile ]
- Resolution: 1.781215316629442
- Scale: 2051.960044757117
-
Level ID: 20
[ Start Tile, End Tile ]
- Resolution: 0.890607658314721
- Scale: 1025.98002237855849
-
Level ID: 21
[ Start Tile, End Tile ]
- Resolution: 0.4453038291573605
- Scale: 512.990011189279244
-
Level ID: 22
[ Start Tile, End Tile ]
- Resolution: 0.22265191457868025
- Scale: 256.495005594639622
-
Level ID: 23
[ Start Tile, End Tile ]
- Resolution: 0.11132595728934012
- Scale: 128.247502797319811
- Format: PNG
- Compression Quality: 0.0
- Origin: X: -1.1133323670086935E8
Y: 1.1766207498292059E8
- Spatial Reference: 2913
(2913)
Storage Info:
- Storage Format: esriMapCacheStorageModeCompactV2
- Packet Size: 128
Initial Extent:
XMin: 7582122.986807902
YMin: 535815.5970960107
XMax: 7604384.257943089
YMax: 559273.7107653472
Spatial Reference: 2913
(2913)
Full Extent:
XMin: 7556082.288713917
YMin: 506294.5275590569
XMax: 7627340.058070868
YMax: 577444.625
Spatial Reference: 2913
(2913)
Units: esriFeet
Supported Image Format Types: PNG32,PNG24,PNG,JPG,DIB,TIFF,EMF,PS,PDF,GIF,SVG,SVGZ,BMP
Document Info:
Title: S:\GIS\Maps\Webmaps\ArcPRO_Webmaps\BaseMap_For_Community\BaseMap_For_Community.aprx
Author:
Comments:
Subject:
Category:
Keywords:
AntialiasingMode: None
TextAntialiasingMode: Force
Supports Dynamic Layers: false
MaxRecordCount: 1000
MaxSelectionCount: 2000
MaxImageHeight: 4096
MaxImageWidth: 4096
Supported Query Formats: JSON, geoJSON, PBF
Supports Query Data Elements: true
Min Scale: 131325.442864455486
Max Scale: 4103.920089514234
Min LOD: 13
Max LOD: 18
Supports Datum Transformation: true
Child Resources:
Info
Supported Operations:
QueryLegends
Return Updates