<?xml version="1.0" encoding="UTF-8"?>
<Capabilities xmlns="http://www.opengis.net/wmts/1.0"
xmlns:ows="http://www.opengis.net/ows/1.1"
xmlns:xlink="http://www.w3.org/1999/xlink"
xmlns:xsi="http://www.w3.org/2001/XMLSchema-instance"
xmlns:gml="http://www.opengis.net/gml"
xsi:schemaLocation="http://www.opengis.net/wmts/1.0 http://schemas.opengis.net/wmts/1.0/wmtsGetCapabilities_response.xsd"
version="1.0.0">
<!-- Service Identification --> <ows:ServiceIdentification>
<ows:Title>Hosted_Basemap_For_Community_Maps</ows:Title>
<ows:ServiceType>OGC WMTS</ows:ServiceType>
<ows:ServiceTypeVersion>1.0.0</ows:ServiceTypeVersion>
</ows:ServiceIdentification> <!-- Operations Metadata --> <ows:OperationsMetadata>
<ows:Operation name="GetCapabilities">
<ows:DCP>
<ows:HTTP>
<ows:Get xlink:href="https://gis.ci.woodburn.or.us/arcgis/rest/services/Hosted/Basemap_For_Community_Maps/MapServer/WMTS/1.0.0/WMTSCapabilities.xml">
<ows:Constraint name="GetEncoding">
<ows:AllowedValues>
<ows:Value>RESTful</ows:Value>
</ows:AllowedValues>
</ows:Constraint>
</ows:Get>
<!-- add KVP binding in 10.1 -->
<ows:Get xlink:href="https://gis.ci.woodburn.or.us/arcgis/rest/services/Hosted/Basemap_For_Community_Maps/MapServer/WMTS?">
<ows:Constraint name="GetEncoding">
<ows:AllowedValues>
<ows:Value>KVP</ows:Value>
</ows:AllowedValues>
</ows:Constraint>
</ows:Get>
</ows:HTTP>
</ows:DCP>
</ows:Operation>
<ows:Operation name="GetTile">
<ows:DCP>
<ows:HTTP>
<ows:Get xlink:href="https://gis.ci.woodburn.or.us/arcgis/rest/services/Hosted/Basemap_For_Community_Maps/MapServer/WMTS/tile/1.0.0/">
<ows:Constraint name="GetEncoding">
<ows:AllowedValues>
<ows:Value>RESTful</ows:Value>
</ows:AllowedValues>
</ows:Constraint>
</ows:Get>
<ows:Get xlink:href="https://gis.ci.woodburn.or.us/arcgis/rest/services/Hosted/Basemap_For_Community_Maps/MapServer/WMTS?">
<ows:Constraint name="GetEncoding">
<ows:AllowedValues>
<ows:Value>KVP</ows:Value>
</ows:AllowedValues>
</ows:Constraint>
</ows:Get>
</ows:HTTP>
</ows:DCP>
</ows:Operation>
</ows:OperationsMetadata> <Contents>
<!--Layer--> <Layer>
<ows:Title>Hosted_Basemap_For_Community_Maps</ows:Title> <ows:Identifier>Hosted_Basemap_For_Community_Maps</ows:Identifier>
<ows:BoundingBox crs="urn:ogc:def:crs:EPSG::2913">
<ows:LowerCorner>7556082.288713917 506294.5275590569</ows:LowerCorner>
<ows:UpperCorner>7627340.058070868 577444.625</ows:UpperCorner>
</ows:BoundingBox> <ows:WGS84BoundingBox crs="urn:ogc:def:crs:OGC:2:84">
<ows:LowerCorner>-123.00773698748812 45.027997906158895</ows:LowerCorner>
<ows:UpperCorner>-122.7236745254631 45.22879452179978</ows:UpperCorner>
</ows:WGS84BoundingBox>
<Style isDefault="true">
<ows:Title>Default Style</ows:Title>
<ows:Identifier>default</ows:Identifier>
</Style>
<Format>image/png</Format>
<TileMatrixSetLink>
<TileMatrixSet>default028mm</TileMatrixSet>
</TileMatrixSetLink>
<ResourceURL format="image/png" resourceType="tile" template="https://gis.ci.woodburn.or.us/arcgis/rest/services/Hosted/Basemap_For_Community_Maps/MapServer/WMTS/tile/1.0.0/Hosted_Basemap_For_Community_Maps/{Style}/{TileMatrixSet}/{TileMatrix}/{TileRow}/{TileCol}.png" />
</Layer> <!--TileMatrixSet-->
<TileMatrixSet>
<ows:Title>TileMatrix using 0.28mm</ows:Title>
<ows:Abstract>The tile matrix set that has scale values calculated based on the dpi defined by OGC specification (dpi assumes 0.28mm as the physical distance of a pixel).</ows:Abstract> <ows:Identifier>default028mm</ows:Identifier>
<ows:SupportedCRS>urn:ogc:def:crs:EPSG::2913</ows:SupportedCRS>
<TileMatrix>
<ows:Identifier>0</ows:Identifier>
<ScaleDenominator>1.0165839996211048E9</ScaleDenominator>
<TopLeftCorner>-1.1133323670086935E8 1.1766207498292059E8</TopLeftCorner> <TileWidth>256</TileWidth> <TileHeight>256</TileHeight>
<MatrixWidth>1</MatrixWidth> <MatrixHeight>1</MatrixHeight>
</TileMatrix>
<TileMatrix>
<ows:Identifier>1</ows:Identifier>
<ScaleDenominator>5.082919998105524E8</ScaleDenominator>
<TopLeftCorner>-1.1133323670086935E8 1.1766207498292059E8</TopLeftCorner> <TileWidth>256</TileWidth> <TileHeight>256</TileHeight>
<MatrixWidth>1</MatrixWidth> <MatrixHeight>1</MatrixHeight>
</TileMatrix>
<TileMatrix>
<ows:Identifier>2</ows:Identifier>
<ScaleDenominator>2.541459999052762E8</ScaleDenominator>
<TopLeftCorner>-1.1133323670086935E8 1.1766207498292059E8</TopLeftCorner> <TileWidth>256</TileWidth> <TileHeight>256</TileHeight>
<MatrixWidth>2</MatrixWidth> <MatrixHeight>2</MatrixHeight>
</TileMatrix>
<TileMatrix>
<ows:Identifier>3</ows:Identifier>
<ScaleDenominator>1.270729999526381E8</ScaleDenominator>
<TopLeftCorner>-1.1133323670086935E8 1.1766207498292059E8</TopLeftCorner> <TileWidth>256</TileWidth> <TileHeight>256</TileHeight>
<MatrixWidth>4</MatrixWidth> <MatrixHeight>4</MatrixHeight>
</TileMatrix>
<TileMatrix>
<ows:Identifier>4</ows:Identifier>
<ScaleDenominator>6.353649997631905E7</ScaleDenominator>
<TopLeftCorner>-1.1133323670086935E8 1.1766207498292059E8</TopLeftCorner> <TileWidth>256</TileWidth> <TileHeight>256</TileHeight>
<MatrixWidth>8</MatrixWidth> <MatrixHeight>8</MatrixHeight>
</TileMatrix>
<TileMatrix>
<ows:Identifier>5</ows:Identifier>
<ScaleDenominator>3.1768249988159526E7</ScaleDenominator>
<TopLeftCorner>-1.1133323670086935E8 1.1766207498292059E8</TopLeftCorner> <TileWidth>256</TileWidth> <TileHeight>256</TileHeight>
<MatrixWidth>16</MatrixWidth> <MatrixHeight>16</MatrixHeight>
</TileMatrix>
<TileMatrix>
<ows:Identifier>6</ows:Identifier>
<ScaleDenominator>1.5884124994079763E7</ScaleDenominator>
<TopLeftCorner>-1.1133323670086935E8 1.1766207498292059E8</TopLeftCorner> <TileWidth>256</TileWidth> <TileHeight>256</TileHeight>
<MatrixWidth>32</MatrixWidth> <MatrixHeight>32</MatrixHeight>
</TileMatrix>
<TileMatrix>
<ows:Identifier>7</ows:Identifier>
<ScaleDenominator>7942062.497039882</ScaleDenominator>
<TopLeftCorner>-1.1133323670086935E8 1.1766207498292059E8</TopLeftCorner> <TileWidth>256</TileWidth> <TileHeight>256</TileHeight>
<MatrixWidth>64</MatrixWidth> <MatrixHeight>63</MatrixHeight>
</TileMatrix>
<TileMatrix>
<ows:Identifier>8</ows:Identifier>
<ScaleDenominator>3971031.248519941</ScaleDenominator>
<TopLeftCorner>-1.1133323670086935E8 1.1766207498292059E8</TopLeftCorner> <TileWidth>256</TileWidth> <TileHeight>256</TileHeight>
<MatrixWidth>128</MatrixWidth> <MatrixHeight>126</MatrixHeight>
</TileMatrix>
<TileMatrix>
<ows:Identifier>9</ows:Identifier>
<ScaleDenominator>1985515.6242599704</ScaleDenominator>
<TopLeftCorner>-1.1133323670086935E8 1.1766207498292059E8</TopLeftCorner> <TileWidth>256</TileWidth> <TileHeight>256</TileHeight>
<MatrixWidth>255</MatrixWidth> <MatrixHeight>251</MatrixHeight>
</TileMatrix>
<TileMatrix>
<ows:Identifier>10</ows:Identifier>
<ScaleDenominator>992757.8121299852</ScaleDenominator>
<TopLeftCorner>-1.1133323670086935E8 1.1766207498292059E8</TopLeftCorner> <TileWidth>256</TileWidth> <TileHeight>256</TileHeight>
<MatrixWidth>510</MatrixWidth> <MatrixHeight>502</MatrixHeight>
</TileMatrix>
<TileMatrix>
<ows:Identifier>11</ows:Identifier>
<ScaleDenominator>496378.9060649926</ScaleDenominator>
<TopLeftCorner>-1.1133323670086935E8 1.1766207498292059E8</TopLeftCorner> <TileWidth>256</TileWidth> <TileHeight>256</TileHeight>
<MatrixWidth>1020</MatrixWidth> <MatrixHeight>1004</MatrixHeight>
</TileMatrix>
<TileMatrix>
<ows:Identifier>12</ows:Identifier>
<ScaleDenominator>248189.4530324963</ScaleDenominator>
<TopLeftCorner>-1.1133323670086935E8 1.1766207498292059E8</TopLeftCorner> <TileWidth>256</TileWidth> <TileHeight>256</TileHeight>
<MatrixWidth>2039</MatrixWidth> <MatrixHeight>2008</MatrixHeight>
</TileMatrix>
<TileMatrix>
<ows:Identifier>13</ows:Identifier>
<ScaleDenominator>124094.72651624815</ScaleDenominator>
<TopLeftCorner>-1.1133323670086935E8 1.1766207498292059E8</TopLeftCorner> <TileWidth>256</TileWidth> <TileHeight>256</TileHeight>
<MatrixWidth>4077</MatrixWidth> <MatrixHeight>4015</MatrixHeight>
</TileMatrix>
<TileMatrix>
<ows:Identifier>14</ows:Identifier>
<ScaleDenominator>62047.363258124074</ScaleDenominator>
<TopLeftCorner>-1.1133323670086935E8 1.1766207498292059E8</TopLeftCorner> <TileWidth>256</TileWidth> <TileHeight>256</TileHeight>
<MatrixWidth>8153</MatrixWidth> <MatrixHeight>8029</MatrixHeight>
</TileMatrix>
<TileMatrix>
<ows:Identifier>15</ows:Identifier>
<ScaleDenominator>31023.681629062037</ScaleDenominator>
<TopLeftCorner>-1.1133323670086935E8 1.1766207498292059E8</TopLeftCorner> <TileWidth>256</TileWidth> <TileHeight>256</TileHeight>
<MatrixWidth>16306</MatrixWidth> <MatrixHeight>16058</MatrixHeight>
</TileMatrix>
<TileMatrix>
<ows:Identifier>16</ows:Identifier>
<ScaleDenominator>15511.840814531019</ScaleDenominator>
<TopLeftCorner>-1.1133323670086935E8 1.1766207498292059E8</TopLeftCorner> <TileWidth>256</TileWidth> <TileHeight>256</TileHeight>
<MatrixWidth>32611</MatrixWidth> <MatrixHeight>32116</MatrixHeight>
</TileMatrix>
<TileMatrix>
<ows:Identifier>17</ows:Identifier>
<ScaleDenominator>7755.920407265509</ScaleDenominator>
<TopLeftCorner>-1.1133323670086935E8 1.1766207498292059E8</TopLeftCorner> <TileWidth>256</TileWidth> <TileHeight>256</TileHeight>
<MatrixWidth>65221</MatrixWidth> <MatrixHeight>64232</MatrixHeight>
</TileMatrix>
<TileMatrix>
<ows:Identifier>18</ows:Identifier>
<ScaleDenominator>3877.9602036327547</ScaleDenominator>
<TopLeftCorner>-1.1133323670086935E8 1.1766207498292059E8</TopLeftCorner> <TileWidth>256</TileWidth> <TileHeight>256</TileHeight>
<MatrixWidth>130442</MatrixWidth> <MatrixHeight>128463</MatrixHeight>
</TileMatrix>
<TileMatrix>
<ows:Identifier>19</ows:Identifier>
<ScaleDenominator>1938.9801018163773</ScaleDenominator>
<TopLeftCorner>-1.1133323670086935E8 1.1766207498292059E8</TopLeftCorner> <TileWidth>256</TileWidth> <TileHeight>256</TileHeight>
<MatrixWidth>260884</MatrixWidth> <MatrixHeight>256926</MatrixHeight>
</TileMatrix>
<TileMatrix>
<ows:Identifier>20</ows:Identifier>
<ScaleDenominator>969.4900509081887</ScaleDenominator>
<TopLeftCorner>-1.1133323670086935E8 1.1766207498292059E8</TopLeftCorner> <TileWidth>256</TileWidth> <TileHeight>256</TileHeight>
<MatrixWidth>521768</MatrixWidth> <MatrixHeight>513852</MatrixHeight>
</TileMatrix>
<TileMatrix>
<ows:Identifier>21</ows:Identifier>
<ScaleDenominator>484.74502545409433</ScaleDenominator>
<TopLeftCorner>-1.1133323670086935E8 1.1766207498292059E8</TopLeftCorner> <TileWidth>256</TileWidth> <TileHeight>256</TileHeight>
<MatrixWidth>1043535</MatrixWidth> <MatrixHeight>1027703</MatrixHeight>
</TileMatrix>
<TileMatrix>
<ows:Identifier>22</ows:Identifier>
<ScaleDenominator>242.37251272704717</ScaleDenominator>
<TopLeftCorner>-1.1133323670086935E8 1.1766207498292059E8</TopLeftCorner> <TileWidth>256</TileWidth> <TileHeight>256</TileHeight>
<MatrixWidth>2087069</MatrixWidth> <MatrixHeight>2055405</MatrixHeight>
</TileMatrix>
<TileMatrix>
<ows:Identifier>23</ows:Identifier>
<ScaleDenominator>121.18625636352358</ScaleDenominator>
<TopLeftCorner>-1.1133323670086935E8 1.1766207498292059E8</TopLeftCorner> <TileWidth>256</TileWidth> <TileHeight>256</TileHeight>
<MatrixWidth>4174137</MatrixWidth> <MatrixHeight>4110810</MatrixHeight>
</TileMatrix>
</TileMatrixSet>
</Contents>
<ServiceMetadataURL xlink:href="https://gis.ci.woodburn.or.us/arcgis/rest/services/Hosted/Basemap_For_Community_Maps/MapServer/WMTS/1.0.0/WMTSCapabilities.xml" /> </Capabilities>
