{
 "documentInfo": {
  "Category": "",
  "Keywords": "",
  "Version": "3.7.0",
  "Comments": "",
  "AntialiasingMode": "None",
  "Title": "S:\\GIS\\Maps\\Webmaps\\ArcPRO_Webmaps\\BaseMap_For_Community\\BaseMap_For_Community.aprx",
  "Author": "",
  "TextAntialiasingMode": "Force",
  "Subject": ""
 },
 "maxImageWidth": 4096,
 "wmtsScaleFactor": 0.0009186351706037901,
 "maxRecordCount": 1000,
 "tileInfo": {
  "lods": [
   {
    "level": 0,
    "scale": 1075818027.94561934,
    "resolution": 933869.815925016883
   },
   {
    "level": 1,
    "scale": 537909013.972809672,
    "resolution": 466934.907962508441
   },
   {
    "level": 2,
    "scale": 268954506.986404836,
    "resolution": 233467.453981254221
   },
   {
    "level": 3,
    "scale": 134477253.493202418,
    "resolution": 116733.72699062711
   },
   {
    "level": 4,
    "scale": 67238626.746601209,
    "resolution": 58366.8634953135552
   },
   {
    "level": 5,
    "scale": 33619313.3733006045,
    "resolution": 29183.4317476567776
   },
   {
    "level": 6,
    "scale": 16809656.6866503023,
    "resolution": 14591.7158738283888
   },
   {
    "level": 7,
    "scale": 8404828.34332515113,
    "resolution": 7295.8579369141944
   },
   {
    "level": 8,
    "scale": 4202414.17166257557,
    "resolution": 3647.9289684570972
   },
   {
    "level": 9,
    "scale": 2101207.08583128778,
    "resolution": 1823.9644842285486
   },
   {
    "level": 10,
    "scale": 1050603.54291564389,
    "resolution": 911.9822421142743
   },
   {
    "level": 11,
    "scale": 525301.771457821946,
    "resolution": 455.99112105713715
   },
   {
    "level": 12,
    "scale": 262650.885728910973,
    "resolution": 227.995560528568575
   },
   {
    "level": 13,
    "scale": 131325.442864455486,
    "resolution": 113.997780264284287
   },
   {
    "level": 14,
    "scale": 65662.7214322277432,
    "resolution": 56.9988901321421437
   },
   {
    "level": 15,
    "scale": 32831.3607161138716,
    "resolution": 28.4994450660710719
   },
   {
    "level": 16,
    "scale": 16415.6803580569358,
    "resolution": 14.2497225330355359
   },
   {
    "level": 17,
    "scale": 8207.8401790284679,
    "resolution": 7.124861266517768
   },
   {
    "level": 18,
    "scale": 4103.920089514234,
    "resolution": 3.562430633258884
   },
   {
    "level": 19,
    "scale": 2051.960044757117,
    "resolution": 1.781215316629442
   },
   {
    "level": 20,
    "scale": 1025.98002237855849,
    "resolution": 0.890607658314721
   },
   {
    "level": 21,
    "scale": 512.990011189279244,
    "resolution": 0.4453038291573605
   },
   {
    "level": 22,
    "scale": 256.495005594639622,
    "resolution": 0.22265191457868025
   },
   {
    "level": 23,
    "scale": 128.247502797319811,
    "resolution": 0.11132595728934012
   }
  ],
  "origin": {
   "x": -111333236.700869352,
   "y": 117662074.982920587
  },
  "format": "PNG",
  "compressionQuality": 0,
  "rows": 256,
  "dpi": 96,
  "spatialReference": {
   "falseM": -100000,
   "xyTolerance": 0.0032808398950131233,
   "mUnits": 10000,
   "zUnits": 10000,
   "latestWkid": 2913,
   "zTolerance": 0.001,
   "wkid": 2913,
   "xyUnits": 3048,
   "mTolerance": 0.001,
   "falseX": -111333600,
   "falseY": -98152500,
   "falseZ": -100000
  },
  "cols": 256
 },
 "description": "",
 "datesInUnknownTimezone": false,
 "supportsQueryDomains": true,
 "units": "esriFeet",
 "maxSelectionCount": 2000,
 "supportedImageFormatTypes": "PNG32,PNG24,PNG,JPG,DIB,TIFF,EMF,PS,PDF,GIF,SVG,SVGZ,BMP",
 "supportsClipping": true,
 "maxImageHeight": 4096,
 "exportTilesAllowed": false,
 "tables": [],
 "hasVersionedData": false,
 "supportsDatumTransformation": true,
 "cimVersion": "3.7.0",
 "supportsQueryDataElements": true,
 "layers": [
  {
   "subLayerIds": [
    1
   ],
   "maxScale": 10,
   "name": "UGB Labels",
   "defaultVisibility": true,
   "id": 0,
   "minScale": 24000,
   "supportsDynamicLegends": false,
   "type": "Annotation Layer",
   "parentLayerId": -1,
   "geometryType": "esriGeometryPolygon"
  },
  {
   "subLayerIds": null,
   "maxScale": 0,
   "name": "Default",
   "defaultVisibility": true,
   "id": 1,
   "minScale": 0,
   "supportsDynamicLegends": false,
   "parentLayerId": 0
  },
  {
   "subLayerIds": [
    3
   ],
   "maxScale": 10,
   "name": "Current_Addresses",
   "defaultVisibility": true,
   "id": 2,
   "minScale": 24000,
   "supportsDynamicLegends": false,
   "type": "Annotation Layer",
   "parentLayerId": -1,
   "geometryType": "esriGeometryPolygon"
  },
  {
   "subLayerIds": null,
   "maxScale": 0,
   "name": "ADDRESS",
   "defaultVisibility": true,
   "id": 3,
   "minScale": 0,
   "supportsDynamicLegends": false,
   "parentLayerId": 2
  },
  {
   "subLayerIds": [
    5
   ],
   "maxScale": 10,
   "name": "City Limit Labels",
   "defaultVisibility": true,
   "id": 4,
   "minScale": 24000,
   "supportsDynamicLegends": false,
   "type": "Annotation Layer",
   "parentLayerId": -1,
   "geometryType": "esriGeometryPolygon"
  },
  {
   "subLayerIds": null,
   "maxScale": 0,
   "name": "Default",
   "defaultVisibility": true,
   "id": 5,
   "minScale": 0,
   "supportsDynamicLegends": false,
   "parentLayerId": 4
  },
  {
   "subLayerIds": [
    7,
    8,
    9
   ],
   "maxScale": 10,
   "name": "Annotation",
   "defaultVisibility": true,
   "id": 6,
   "minScale": 24000,
   "supportsDynamicLegends": false,
   "type": "Annotation Layer",
   "parentLayerId": -1,
   "geometryType": "esriGeometryPolygon"
  },
  {
   "subLayerIds": null,
   "maxScale": 0,
   "name": "STREET-TEXT",
   "defaultVisibility": true,
   "id": 7,
   "minScale": 0,
   "supportsDynamicLegends": false,
   "parentLayerId": 6
  },
  {
   "subLayerIds": null,
   "maxScale": 0,
   "name": "STREET-HIGHWAYS",
   "defaultVisibility": true,
   "id": 8,
   "minScale": 0,
   "supportsDynamicLegends": false,
   "parentLayerId": 6
  },
  {
   "subLayerIds": null,
   "maxScale": 0,
   "name": "STREAM-NAME",
   "defaultVisibility": true,
   "id": 9,
   "minScale": 0,
   "supportsDynamicLegends": false,
   "parentLayerId": 6
  },
  {
   "subLayerIds": null,
   "maxScale": 100,
   "name": "Streets",
   "defaultVisibility": true,
   "id": 10,
   "minScale": 24000,
   "supportsDynamicLegends": true,
   "type": "Feature Layer",
   "parentLayerId": -1,
   "geometryType": "esriGeometryPolyline"
  },
  {
   "subLayerIds": null,
   "maxScale": 10,
   "name": "Streams",
   "defaultVisibility": true,
   "id": 11,
   "minScale": 100000,
   "supportsDynamicLegends": true,
   "type": "Feature Layer",
   "parentLayerId": -1,
   "geometryType": "esriGeometryPolyline"
  },
  {
   "subLayerIds": null,
   "maxScale": 10,
   "name": "Railroad",
   "defaultVisibility": true,
   "id": 12,
   "minScale": 100000,
   "supportsDynamicLegends": true,
   "type": "Feature Layer",
   "parentLayerId": -1,
   "geometryType": "esriGeometryPolyline"
  },
  {
   "subLayerIds": null,
   "maxScale": 10,
   "name": "City Limits",
   "defaultVisibility": true,
   "id": 13,
   "minScale": 100000,
   "supportsDynamicLegends": true,
   "type": "Feature Layer",
   "parentLayerId": -1,
   "geometryType": "esriGeometryPolygon"
  },
  {
   "subLayerIds": null,
   "maxScale": 100,
   "name": "Urban Growth Boundary",
   "defaultVisibility": true,
   "id": 14,
   "minScale": 100000,
   "supportsDynamicLegends": true,
   "type": "Feature Layer",
   "parentLayerId": -1,
   "geometryType": "esriGeometryPolygon"
  },
  {
   "subLayerIds": null,
   "maxScale": 100,
   "name": "Right Of Way",
   "defaultVisibility": true,
   "id": 15,
   "minScale": 24000,
   "supportsDynamicLegends": true,
   "type": "Feature Layer",
   "parentLayerId": -1,
   "geometryType": "esriGeometryPolyline"
  },
  {
   "subLayerIds": null,
   "maxScale": 100,
   "name": "Right Of Way Misc",
   "defaultVisibility": true,
   "id": 16,
   "minScale": 24000,
   "supportsDynamicLegends": true,
   "type": "Feature Layer",
   "parentLayerId": -1,
   "geometryType": "esriGeometryPolyline"
  },
  {
   "subLayerIds": null,
   "maxScale": 100,
   "name": "Mobile Parks",
   "defaultVisibility": true,
   "id": 17,
   "minScale": 75000,
   "supportsDynamicLegends": true,
   "type": "Feature Layer",
   "parentLayerId": -1,
   "geometryType": "esriGeometryPolyline"
  },
  {
   "subLayerIds": null,
   "maxScale": 100,
   "name": "Taxlots",
   "defaultVisibility": true,
   "id": 18,
   "minScale": 75000,
   "supportsDynamicLegends": true,
   "type": "Feature Layer",
   "parentLayerId": -1,
   "geometryType": "esriGeometryPolygon"
  }
 ],
 "mapName": "Basemap For Community Maps",
 "archivingInfo": {
  "supportsHistoricMoment": false
 },
 "minScale": 131325.44286445549,
 "spatialReference": {
  "falseM": -100000,
  "xyTolerance": 0.0032808398950131233,
  "mUnits": 10000,
  "zUnits": 10000,
  "latestWkid": 2913,
  "zTolerance": 0.001,
  "wkid": 2913,
  "xyUnits": 3048,
  "mTolerance": 0.001,
  "falseX": -111333600,
  "falseY": -98152500,
  "falseZ": -100000
 },
 "tileImageInfo": {
  "bandCount": 1,
  "lercError": 0,
  "format": "PNG",
  "compressionQuality": 0
 },
 "fullExtent": {
  "ymin": 506294.527559056878,
  "xmin": 7556082.28871391714,
  "ymax": 577444.625,
  "xmax": 7627340.05807086825,
  "spatialReference": {
   "falseM": -100000,
   "xyTolerance": 0.0032808398950131233,
   "mUnits": 10000,
   "zUnits": 10000,
   "latestWkid": 2913,
   "zTolerance": 0.001,
   "wkid": 2913,
   "xyUnits": 3048,
   "mTolerance": 0.001,
   "falseX": -111333600,
   "falseY": -98152500,
   "falseZ": -100000
  }
 },
 "supportedExtensions": "",
 "serviceItemId": "59ce8914ec51438995809534be62d375",
 "capabilities": "TilesOnly,TileMap",
 "supportsDynamicLayers": false,
 "maxScale": 4103.920089514234,
 "singleFusedMapCache": true,
 "currentVersion": 12.1,
 "storageInfo": {
  "storageFormat": "esriMapCacheStorageModeCompactV2",
  "packetSize": 128
 },
 "hasBranchVersionedData": false,
 "mapUnits": {
  "uwkid": 9002
 },
 "referenceScale": 0,
 "maxExportTilesCount": 100000,
 "supportsSpatialFilter": true,
 "maxLOD": 18,
 "supportedQueryFormats": "JSON, geoJSON, PBF",
 "minLOD": 13,
 "initialExtent": {
  "ymin": 536913.052706271992,
  "xmin": 7583164.44978498667,
  "ymax": 558176.255155085935,
  "xmax": 7603342.79496600479,
  "spatialReference": {
   "falseM": -100000,
   "xyTolerance": 0.0032808398950131233,
   "mUnits": 10000,
   "zUnits": 10000,
   "latestWkid": 2913,
   "zTolerance": 0.001,
   "wkid": 2913,
   "xyUnits": 3048,
   "mTolerance": 0.001,
   "falseX": -111333600,
   "falseY": -98152500,
   "falseZ": -100000
  }
 },
 "serviceDescription": "",
 "copyrightText": "",
 "supportsTimeRelation": true
}
